BEGIN:VCALENDAR
VERSION:2.0
PRODID:-//The Wellness By Design Project - ECPv6.15.20//NONSGML v1.0//EN
CALSCALE:GREGORIAN
METHOD:PUBLISH
X-WR-CALNAME:The Wellness By Design Project
X-ORIGINAL-URL:https://thewellnessbydesignproject.com
X-WR-CALDESC:Events for The Wellness By Design Project
REFRESH-INTERVAL;VALUE=DURATION:PT1H
X-Robots-Tag:noindex
X-PUBLISHED-TTL:PT1H
BEGIN:VTIMEZONE
TZID:America/New_York
BEGIN:DAYLIGHT
TZOFFSETFROM:-0500
TZOFFSETTO:-0400
TZNAME:EDT
DTSTART:20230312T070000
END:DAYLIGHT
BEGIN:STANDARD
TZOFFSETFROM:-0400
TZOFFSETTO:-0500
TZNAME:EST
DTSTART:20231105T060000
END:STANDARD
BEGIN:DAYLIGHT
TZOFFSETFROM:-0500
TZOFFSETTO:-0400
TZNAME:EDT
DTSTART:20240310T070000
END:DAYLIGHT
BEGIN:STANDARD
TZOFFSETFROM:-0400
TZOFFSETTO:-0500
TZNAME:EST
DTSTART:20241103T060000
END:STANDARD
BEGIN:DAYLIGHT
TZOFFSETFROM:-0500
TZOFFSETTO:-0400
TZNAME:EDT
DTSTART:20250309T070000
END:DAYLIGHT
BEGIN:STANDARD
TZOFFSETFROM:-0400
TZOFFSETTO:-0500
TZNAME:EST
DTSTART:20251102T060000
END:STANDARD
END:VTIMEZONE
BEGIN:VTIMEZONE
TZID:America/Los_Angeles
BEGIN:DAYLIGHT
TZOFFSETFROM:-0800
TZOFFSETTO:-0700
TZNAME:PDT
DTSTART:20230312T100000
END:DAYLIGHT
BEGIN:STANDARD
TZOFFSETFROM:-0700
TZOFFSETTO:-0800
TZNAME:PST
DTSTART:20231105T090000
END:STANDARD
BEGIN:DAYLIGHT
TZOFFSETFROM:-0800
TZOFFSETTO:-0700
TZNAME:PDT
DTSTART:20240310T100000
END:DAYLIGHT
BEGIN:STANDARD
TZOFFSETFROM:-0700
TZOFFSETTO:-0800
TZNAME:PST
DTSTART:20241103T090000
END:STANDARD
BEGIN:DAYLIGHT
TZOFFSETFROM:-0800
TZOFFSETTO:-0700
TZNAME:PDT
DTSTART:20250309T100000
END:DAYLIGHT
BEGIN:STANDARD
TZOFFSETFROM:-0700
TZOFFSETTO:-0800
TZNAME:PST
DTSTART:20251102T090000
END:STANDARD
END:VTIMEZONE
BEGIN:VEVENT
DTSTART;TZID=America/New_York:20240830T110000
DTEND;TZID=America/New_York:20240830T170000
DTSTAMP:20260422T180549
CREATED:20240430T160744Z
LAST-MODIFIED:20240430T170031Z
UID:14190-1725015600-1725037200@thewellnessbydesignproject.com
SUMMARY:Biohacking Menopause Q&A
DESCRIPTION:Join Us for a Live Q&A Session with Zora Benhamou in the Biohacking Menopause Membership Group! \nYou are cordially invited to join the Biohacking Menopause Membership Group for an exclusive live Q&A session featuring Carol Petersen. Hosted by our friend Zora Benhamou—a gerontologist and menopause coach—the group is dedicated to empowering women through their menopausal journey with biohacks and expert guidance. Carol will share her insights and expertise on Friday\, August 30th\, at 11:00 am EST (New York time). This private women-only community offers invaluable support and resources for navigating menopause with confidence. Don’t miss out—register now or learn more about this empowering group by clicking here. We look forward to seeing you there! \nShare this:\n				Share on Facebook (Opens in new window)\n				Facebook\n			\n				Share on X (Opens in new window)\n				X\n			\n				Share on Nextdoor (Opens in new window)\n				Nextdoor\n			\n				Share on Reddit (Opens in new window)\n				Reddit\n			\n				Share on Pinterest (Opens in new window)\n				Pinterest\n			\n				Share on LinkedIn (Opens in new window)\n				LinkedIn\n			More\n				Email a link to a friend (Opens in new window)\n				Email\n			\n				Print (Opens in new window)\n				Print\n			\n				Share on Threads (Opens in new window)\n				Threads\n			\n				Share on Bluesky (Opens in new window)\n				Bluesky\n			\n				Share on Tumblr (Opens in new window)\n				Tumblr\n			\n				Share on WhatsApp (Opens in new window)\n				WhatsApp\n			\n				Share on Mastodon (Opens in new window)\n				Mastodon
URL:https://thewellnessbydesignproject.com/event/biohacking-menopause-qa/
LOCATION:Zoom
CATEGORIES:Seminars
ATTACH;FMTTYPE=image/webp:https://thewellnessbydesignproject.com/wp-content/uploads/2024/04/pexels-photo-8417426.webp
END:VEVENT
BEGIN:VEVENT
DTSTART;TZID=America/Los_Angeles:20240820T000000
DTEND;TZID=America/Los_Angeles:20240820T010000
DTSTAMP:20260422T180549
CREATED:20240819T230412Z
LAST-MODIFIED:20240819T230942Z
UID:14740-1724112000-1724115600@thewellnessbydesignproject.com
SUMMARY:Energized with Dr. Mariza
DESCRIPTION:We’re so excited to be a part of Dr. Mariza Snyder’s podcast\, Energized. Dr. Mariza has spent the last 3 years creating something incredibly valuable to help reinvent your health with safer\, more effective natural solutions and powerful lifestyle changes. \nOur show goes live on Tuesday 12am PST\, listen here: https://drmariza.com/episode593 \nShare this:\n				Share on Facebook (Opens in new window)\n				Facebook\n			\n				Share on X (Opens in new window)\n				X\n			\n				Share on Nextdoor (Opens in new window)\n				Nextdoor\n			\n				Share on Reddit (Opens in new window)\n				Reddit\n			\n				Share on Pinterest (Opens in new window)\n				Pinterest\n			\n				Share on LinkedIn (Opens in new window)\n				LinkedIn\n			More\n				Email a link to a friend (Opens in new window)\n				Email\n			\n				Print (Opens in new window)\n				Print\n			\n				Share on Threads (Opens in new window)\n				Threads\n			\n				Share on Bluesky (Opens in new window)\n				Bluesky\n			\n				Share on Tumblr (Opens in new window)\n				Tumblr\n			\n				Share on WhatsApp (Opens in new window)\n				WhatsApp\n			\n				Share on Mastodon (Opens in new window)\n				Mastodon
URL:https://thewellnessbydesignproject.com/event/energized-with-dr-mariza/
LOCATION:Dr. Mariza Snyder
CATEGORIES:Podcast
ATTACH;FMTTYPE=image/webp:https://thewellnessbydesignproject.com/wp-content/uploads/2024/08/Mariza.webp
END:VEVENT
BEGIN:VEVENT
DTSTART;TZID=America/New_York:20240819T170000
DTEND;TZID=America/New_York:20240819T180000
DTSTAMP:20260422T180549
CREATED:20240802T200741Z
LAST-MODIFIED:20240825T203344Z
UID:14440-1724086800-1724090400@thewellnessbydesignproject.com
SUMMARY:Defending All Forms of Bioidentical Progesterone
DESCRIPTION:Join us for an insightful discussion on progesterone\, a crucial hormone that plays a significant role in various aspects of our health. We will delve into the science behind progesterone\, its functions\, and its impact on women’s health\, and address commonly asked questions\, including: \n– Are progesterone and progestins the same?\n– Do women with a hysterectomy need progesterone?\n– What are the best forms of progesterone and therapeutic dosages?\n– Why do some women experience side effects/an intolerance when starting oral progesterone or increasing their oral progesterone dose?\n– What other options are available for women who cannot tolerate oral progesterone?\n– Does transdermal progesterone protect the uterine lining from excessive growth?\n– Does bleeding while on hormone therapy indicate a need for more progesterone?\n– What is the best form of progesterone for women with PMDD\, anxiety\, or mood disorders? \nHost: Jill Chmielewski\, RN\, BSN \nGuest experts:\n– Phyllis Bronson\, PhD\n– Carol Petersen\, RPh\, CNP \nWho Should Attend:\n– Healthcare professionals\n– Individuals interested in hormonal health\n– Anyone experiencing or interested in learning about hormonal imbalances \nEvent replay: https://pausingtogether.wistia.com/medias/c4q5giewts \nShare this:\n				Share on Facebook (Opens in new window)\n				Facebook\n			\n				Share on X (Opens in new window)\n				X\n			\n				Share on Nextdoor (Opens in new window)\n				Nextdoor\n			\n				Share on Reddit (Opens in new window)\n				Reddit\n			\n				Share on Pinterest (Opens in new window)\n				Pinterest\n			\n				Share on LinkedIn (Opens in new window)\n				LinkedIn\n			More\n				Email a link to a friend (Opens in new window)\n				Email\n			\n				Print (Opens in new window)\n				Print\n			\n				Share on Threads (Opens in new window)\n				Threads\n			\n				Share on Bluesky (Opens in new window)\n				Bluesky\n			\n				Share on Tumblr (Opens in new window)\n				Tumblr\n			\n				Share on WhatsApp (Opens in new window)\n				WhatsApp\n			\n				Share on Mastodon (Opens in new window)\n				Mastodon
URL:https://thewellnessbydesignproject.com/event/defending-all-forms-of-bioidentical-progesterone/
LOCATION:Zoom
CATEGORIES:Podcast
ATTACH;FMTTYPE=image/png:https://thewellnessbydesignproject.com/wp-content/uploads/2024/08/5eaac578-aa24-4d74-b145-58ec985a3bbf.png
END:VEVENT
BEGIN:VEVENT
DTSTART;TZID=America/New_York:20240730T003000
DTEND;TZID=America/New_York:20240730T010000
DTSTAMP:20260422T180549
CREATED:20240726T015606Z
LAST-MODIFIED:20240727T161010Z
UID:14324-1722299400-1722301200@thewellnessbydesignproject.com
SUMMARY:The Hormone Balance Solution Podcast
DESCRIPTION:Podcast Episode 99: Everything you need to know about progesterone & replacing it\, with Carol Petersen \nhttps://www.youtube.com/watch?v=8BKArrg2w18Video can’t be loaded because JavaScript is disabled: The Hormone Balance Solution Podcast (https://www.youtube.com/watch?v=8BKArrg2w18)\nListen Here\nShare this:\n				Share on Facebook (Opens in new window)\n				Facebook\n			\n				Share on X (Opens in new window)\n				X\n			\n				Share on Nextdoor (Opens in new window)\n				Nextdoor\n			\n				Share on Reddit (Opens in new window)\n				Reddit\n			\n				Share on Pinterest (Opens in new window)\n				Pinterest\n			\n				Share on LinkedIn (Opens in new window)\n				LinkedIn\n			More\n				Email a link to a friend (Opens in new window)\n				Email\n			\n				Print (Opens in new window)\n				Print\n			\n				Share on Threads (Opens in new window)\n				Threads\n			\n				Share on Bluesky (Opens in new window)\n				Bluesky\n			\n				Share on Tumblr (Opens in new window)\n				Tumblr\n			\n				Share on WhatsApp (Opens in new window)\n				WhatsApp\n			\n				Share on Mastodon (Opens in new window)\n				Mastodon
URL:https://thewellnessbydesignproject.com/event/the-hormone-balance-solution-podcast/
CATEGORIES:Podcast
ATTACH;FMTTYPE=image/png:https://thewellnessbydesignproject.com/wp-content/uploads/2024/07/Screenshot-2024-07-25-215514.png
END:VEVENT
BEGIN:VEVENT
DTSTART;TZID=America/New_York:20240621T120000
DTEND;TZID=America/New_York:20240621T170000
DTSTAMP:20260422T180549
CREATED:20240618T145010Z
LAST-MODIFIED:20240618T153829Z
UID:14208-1718971200-1718989200@thewellnessbydesignproject.com
SUMMARY:MONTHLY HEALTH-FREEDOM BRAINSTORM!
DESCRIPTION:FDA Smothering of Homeopathy & \nNatural Compounding Shows Need for Medical Freedom Amendment \n \nWith Guests: \n● Paola Brown\, founder of Americans for Homeopathy Choice\, leading the fight against FDA’s pre-approval requirements blocking American access to the preferred health treatments of homeopathic medicines. \n● Carol Petersen\, member of the Alliance for Pharmacy Compounding\, on a similar campaign against the FDA smothering of pharmacist compounding rights\, including with non-pHARMa ingredients. \n● Michael LeVesque\, member of the Board of Governors of the National Health Federation\, founder of RayGuard Protect\, past CEO and President of Vitamin Express\, and Medical Freedom Amendment advocate.Institute\, on whether politicians have learned anything from COVID-19 Catastrophe. \n__________________________________ \nCo-hosted by NHF President Scott Tips\, NHF Lobbyist Charles Frohman\, \nand NHF Media Manager Terri Harrah \n_____________________________________ \nFor the zoom\, scroll down to the “registration” button.\nAnd please share with friends! \nAgenda: \n(1)  Politicians in our national government defeated an amendment last year to protect homeopathic medicines from the Food and Drug Administration’s (FDA) 2022 “Guidance” that is eliminating access to long-used treatments of a homeopathic nature – that is\, using natural substances to elicit the body’s natural immunity instead of allopathic interventions that suppress enzymatic symptoms and can trigger toxic side effects. Among other things\, homeopathy is popular for treating allergies\, arthritis\, and pain – each a billion-dollar per year industry. Paola Brown will discuss whether the growing awakening of humanity will enable a paradigm shift in our government and institutions. \n(2)  The FDA’s attack on pharmaceutical compounding – especially when using natural ingredients – operates similarly to its persecution of homeopathy. Mass produced prescriptions can contain ingredients that prove allergenic for some patients who cannot tolerate the delivery mechanism of the drug. Compounding can solve these problems with personalized formulas\, and different delivery methods (such as a sublingual pill instead of one that is swallowed). In 2016\, the FDA outlawed compounding with natural ingredients such as Coenzyme Q10\, ginger root powder\, ginkgo biloba\, and colloidal silver\, among countless others. Three years later Congressman Griffiths introduced a bill to protect some natural ingredients and compounding practices.  Ms. Petersen coordinates some action on this and related efforts supporting compounding and will tell us how we can help. \n(3)  Active for years against the government’s suppression of the harm from the growing wireless mesh of antennas outside our bedrooms\, classrooms\, offices\, parks & farms\, Michael LeVesque founded the mitigation company RayGuardProtect.com. He also serves as a valued member of the NHF Board of Governors. He will speak about NHF’s latest project (Pass the Medical Freedom Amendment (thenhf.com))\, which he initiated and which aims to restore the vision of Founding Father Benjamin Rush\, who warned of the tyranny of medicine if not protected from the government by an express constitutional provision. The requirements of bodily autonomy\, medical privacy\, medical choice\, and informed consent need protection from government interference in our health and medical decisions. How do we get the requisite number of States\, politicians & voters to prioritize this amendment? It must happen before global tyranny renders this effort impossible.  \nP.S. Please subscribe to the NHF’s Rumble channel where you can freely watch all of our NHF Monthly Brainstorms. Also join NHF’s groups and pages on Facebook\, LinkedIn & Twitter\, to help our campaigns. \nP.P.S. We hope that you appreciate NHF’s efforts to give you a voice not only in Congress\, but also in the UN’s Codex Alimentarius Commission. Since 1955\, we have been defending consumers and healers from burdensome overregulation\, and Nature from toxic cartelization schemes by the global elitists. You can also help these efforts with your energy and support by emailing Congress through our campaigns\, and making a one-time or regular donations here. \nClick Here to Register \nShare this:\n				Share on Facebook (Opens in new window)\n				Facebook\n			\n				Share on X (Opens in new window)\n				X\n			\n				Share on Nextdoor (Opens in new window)\n				Nextdoor\n			\n				Share on Reddit (Opens in new window)\n				Reddit\n			\n				Share on Pinterest (Opens in new window)\n				Pinterest\n			\n				Share on LinkedIn (Opens in new window)\n				LinkedIn\n			More\n				Email a link to a friend (Opens in new window)\n				Email\n			\n				Print (Opens in new window)\n				Print\n			\n				Share on Threads (Opens in new window)\n				Threads\n			\n				Share on Bluesky (Opens in new window)\n				Bluesky\n			\n				Share on Tumblr (Opens in new window)\n				Tumblr\n			\n				Share on WhatsApp (Opens in new window)\n				WhatsApp\n			\n				Share on Mastodon (Opens in new window)\n				Mastodon
URL:https://thewellnessbydesignproject.com/event/monthly-health-freedom-brainstorm/
LOCATION:Zoom
CATEGORIES:Seminars
ATTACH;FMTTYPE=image/jpeg:https://thewellnessbydesignproject.com/wp-content/uploads/2024/06/unnamed-11.jpg
END:VEVENT
BEGIN:VEVENT
DTSTART;VALUE=DATE:20240426
DTEND;VALUE=DATE:20240428
DTSTAMP:20260422T180549
CREATED:20240318T161919Z
LAST-MODIFIED:20240318T162420Z
UID:13956-1714089600-1714262399@thewellnessbydesignproject.com
SUMMARY:Everything Hormones CME\, Coupon Code EHCP50 for $50 off!
DESCRIPTION:Welcome to the premier hormone seminar of the year!\n\n\n\n\n16 hours of CMEs for MDs\, NPs\, Nurses and PAs. \nFeaturing Dr. David Brownstein and Dr. Devaki Lindsey Berkson \nWith Dr. Angela DeRosa and Carol Petersen\, RPh\, CNP  \n\n\n\n\nUse Coupon Code EHCP50 for $50 off! https://drlindseyberkson.com/everythinghormones/ \nHosted by two renowned hormone experts\, this event promises to revolutionize your approach to hormone health. \nYou’ve likely heard these experts speak and explored their insightful articles\, as well as delved into their books. Now\, they’re teaming up with other leading figures in the field to bring you an exceptional online weekend experience. \nOver 16 hours of power-packed content\, we’ll cover everything from the efficacy and safety of hormone therapies to script writing and patient tracking. But the learning doesn’t stop there—enjoy post-seminar bonuses including Q&A sessions and the option for a personal check-in phone call to ensure you’re equipped with the knowledge and confidence to tackle hormone health head-on. \nJoin us and know exactly what steps to take with your patients come Monday morning. Whether you join us live online or opt for asynchronous viewing at your convenience\, you’ll have access to over 16 hours of power-packed content. \nDon’t miss this opportunity to elevate your practice and transform patient care. \n\n\n\n\n\n\nShare this:\n				Share on Facebook (Opens in new window)\n				Facebook\n			\n				Share on X (Opens in new window)\n				X\n			\n				Share on Nextdoor (Opens in new window)\n				Nextdoor\n			\n				Share on Reddit (Opens in new window)\n				Reddit\n			\n				Share on Pinterest (Opens in new window)\n				Pinterest\n			\n				Share on LinkedIn (Opens in new window)\n				LinkedIn\n			More\n				Email a link to a friend (Opens in new window)\n				Email\n			\n				Print (Opens in new window)\n				Print\n			\n				Share on Threads (Opens in new window)\n				Threads\n			\n				Share on Bluesky (Opens in new window)\n				Bluesky\n			\n				Share on Tumblr (Opens in new window)\n				Tumblr\n			\n				Share on WhatsApp (Opens in new window)\n				WhatsApp\n			\n				Share on Mastodon (Opens in new window)\n				Mastodon
URL:https://thewellnessbydesignproject.com/event/everything-hormones-cme/
CATEGORIES:Seminars
ATTACH;FMTTYPE=image/png:https://thewellnessbydesignproject.com/wp-content/uploads/2024/03/April-24-CME-v5.png
END:VEVENT
END:VCALENDAR