BEGIN:VCALENDAR
VERSION:2.0
PRODID:-//The Wellness By Design Project - ECPv6.15.20//NONSGML v1.0//EN
CALSCALE:GREGORIAN
METHOD:PUBLISH
X-ORIGINAL-URL:https://thewellnessbydesignproject.com
X-WR-CALDESC:Events for The Wellness By Design Project
REFRESH-INTERVAL;VALUE=DURATION:PT1H
X-Robots-Tag:noindex
X-PUBLISHED-TTL:PT1H
BEGIN:VTIMEZONE
TZID:America/New_York
BEGIN:DAYLIGHT
TZOFFSETFROM:-0500
TZOFFSETTO:-0400
TZNAME:EDT
DTSTART:20230312T070000
END:DAYLIGHT
BEGIN:STANDARD
TZOFFSETFROM:-0400
TZOFFSETTO:-0500
TZNAME:EST
DTSTART:20231105T060000
END:STANDARD
BEGIN:DAYLIGHT
TZOFFSETFROM:-0500
TZOFFSETTO:-0400
TZNAME:EDT
DTSTART:20240310T070000
END:DAYLIGHT
BEGIN:STANDARD
TZOFFSETFROM:-0400
TZOFFSETTO:-0500
TZNAME:EST
DTSTART:20241103T060000
END:STANDARD
BEGIN:DAYLIGHT
TZOFFSETFROM:-0500
TZOFFSETTO:-0400
TZNAME:EDT
DTSTART:20250309T070000
END:DAYLIGHT
BEGIN:STANDARD
TZOFFSETFROM:-0400
TZOFFSETTO:-0500
TZNAME:EST
DTSTART:20251102T060000
END:STANDARD
END:VTIMEZONE
BEGIN:VEVENT
DTSTART;TZID=America/New_York:20240925T130000
DTEND;TZID=America/New_York:20240925T150000
DTSTAMP:20260419T201332
CREATED:20240911T142716Z
LAST-MODIFIED:20240911T150349Z
UID:14895-1727269200-1727276400@thewellnessbydesignproject.com
SUMMARY:ACA WEBINAR: Understanding Adrenal Fatigue
DESCRIPTION:Activity Description\n\nPharmacy professionals play a crucial role in identifying and managing adrenal health. Adrenal fatigue\, often overlooked\, exists on a continuum from normal function to complete adrenal failure\, such as Addison’s disease. Many patients fall within this interval and suffer from symptoms that can be easily missed or misunderstood. In this webinar\, we will review simple but important signs of adrenal insufficiency and explore the major hormones involved\, including adrenaline\, hydrocortisone\, and progesterone. Our goal is to provide practical tools to help you identify and manage patients with adrenal dysfunction\, strengthening the patient-practitioner relationship and improving long-term outcomes. \n\n\nCanadian and Other International Pharmacists and Pharmacy Technicians\n\nIf you do not have an NABP number\, select “International Pharmacist” or “International Pharmacy Technician” when registering. Automatic submission is not available for these registration types.\nParticipants selecting these options will receive a certificate of continuing education that you may self-submit to your accreditation body to be considered for CE credit.\n\n\nDisclosures\n\n\nThe planners of this activity have no relevant financial relationships with ineligible companies to disclose.\nAll materials are included with the permission of the faculty. The opinions expressed are those of the faculty and are not to be construed as those of the American College of Apothecaries\, Inc.\n\nRegister: \n \n\n\n\nShare this:\n				Share on Facebook (Opens in new window)\n				Facebook\n			\n				Share on X (Opens in new window)\n				X\n			\n				Share on Nextdoor (Opens in new window)\n				Nextdoor\n			\n				Share on Reddit (Opens in new window)\n				Reddit\n			\n				Share on Pinterest (Opens in new window)\n				Pinterest\n			\n				Share on LinkedIn (Opens in new window)\n				LinkedIn\n			More\n				Email a link to a friend (Opens in new window)\n				Email\n			\n				Print (Opens in new window)\n				Print\n			\n				Share on Threads (Opens in new window)\n				Threads\n			\n				Share on Bluesky (Opens in new window)\n				Bluesky\n			\n				Share on Tumblr (Opens in new window)\n				Tumblr\n			\n				Share on WhatsApp (Opens in new window)\n				WhatsApp\n			\n				Share on Mastodon (Opens in new window)\n				Mastodon
URL:https://thewellnessbydesignproject.com/event/rx-for-success-elevating-pharmacy-technicians-through-certification-excellence-with-liza-chapman/
LOCATION:Online
CATEGORIES:Seminars
ATTACH;FMTTYPE=image/png:https://thewellnessbydesignproject.com/wp-content/uploads/2024/09/unnamed-12.png
END:VEVENT
END:VCALENDAR